BEGIN:VCALENDAR
VERSION:2.0
PRODID:-//First Light Shelter - ECPv6.15.11//NONSGML v1.0//EN
CALSCALE:GREGORIAN
METHOD:PUBLISH
X-WR-CALNAME:First Light Shelter
X-ORIGINAL-URL:https://firstlightshelter.org
X-WR-CALDESC:Events for First Light Shelter
REFRESH-INTERVAL;VALUE=DURATION:PT1H
X-Robots-Tag:noindex
X-PUBLISHED-TTL:PT1H
BEGIN:VTIMEZONE
TZID:America/Chicago
BEGIN:DAYLIGHT
TZOFFSETFROM:-0600
TZOFFSETTO:-0500
TZNAME:CDT
DTSTART:20250309T080000
END:DAYLIGHT
BEGIN:STANDARD
TZOFFSETFROM:-0500
TZOFFSETTO:-0600
TZNAME:CST
DTSTART:20251102T070000
END:STANDARD
BEGIN:DAYLIGHT
TZOFFSETFROM:-0600
TZOFFSETTO:-0500
TZNAME:CDT
DTSTART:20260308T080000
END:DAYLIGHT
BEGIN:STANDARD
TZOFFSETFROM:-0500
TZOFFSETTO:-0600
TZNAME:CST
DTSTART:20261101T070000
END:STANDARD
BEGIN:DAYLIGHT
TZOFFSETFROM:-0600
TZOFFSETTO:-0500
TZNAME:CDT
DTSTART:20270314T080000
END:DAYLIGHT
BEGIN:STANDARD
TZOFFSETFROM:-0500
TZOFFSETTO:-0600
TZNAME:CST
DTSTART:20271107T070000
END:STANDARD
END:VTIMEZONE
BEGIN:VEVENT
DTSTART;VALUE=DATE:20260101
DTEND;VALUE=DATE:20260102
DTSTAMP:20260423T151454
CREATED:20260101T045144Z
LAST-MODIFIED:20260101T045144Z
UID:10001152-1767225600-1767311999@firstlightshelter.org
SUMMARY:Breakfast
DESCRIPTION:
URL:https://firstlightshelter.org/get-involved-volunteer-meal-volunteers/breakfast-266/
CATEGORIES:Spot Filled
END:VEVENT
BEGIN:VEVENT
DTSTART;VALUE=DATE:20260102
DTEND;VALUE=DATE:20260103
DTSTAMP:20260423T151454
CREATED:20260101T045145Z
LAST-MODIFIED:20260101T045145Z
UID:10001153-1767312000-1767398399@firstlightshelter.org
SUMMARY:Lunch
DESCRIPTION:
URL:https://firstlightshelter.org/get-involved-volunteer-meal-volunteers/lunch-286/
CATEGORIES:Spot Filled
END:VEVENT
BEGIN:VEVENT
DTSTART;VALUE=DATE:20260102
DTEND;VALUE=DATE:20260103
DTSTAMP:20260423T151454
CREATED:20260101T045146Z
LAST-MODIFIED:20260101T045146Z
UID:10001154-1767312000-1767398399@firstlightshelter.org
SUMMARY:Dinner
DESCRIPTION:
URL:https://firstlightshelter.org/get-involved-volunteer-meal-volunteers/dinner-252/
CATEGORIES:Spot Filled
END:VEVENT
BEGIN:VEVENT
DTSTART;VALUE=DATE:20260103
DTEND;VALUE=DATE:20260104
DTSTAMP:20260423T151454
CREATED:20260101T045147Z
LAST-MODIFIED:20260101T045147Z
UID:10001155-1767398400-1767484799@firstlightshelter.org
SUMMARY:Breakfast
DESCRIPTION:
URL:https://firstlightshelter.org/get-involved-volunteer-meal-volunteers/breakfast-267/
CATEGORIES:Spot Filled
END:VEVENT
BEGIN:VEVENT
DTSTART;VALUE=DATE:20260103
DTEND;VALUE=DATE:20260104
DTSTAMP:20260423T151454
CREATED:20260101T045147Z
LAST-MODIFIED:20260101T045147Z
UID:10001156-1767398400-1767484799@firstlightshelter.org
SUMMARY:Lunch
DESCRIPTION:
URL:https://firstlightshelter.org/get-involved-volunteer-meal-volunteers/lunch-287/
CATEGORIES:Spot Filled
END:VEVENT
BEGIN:VEVENT
DTSTART;VALUE=DATE:20260103
DTEND;VALUE=DATE:20260104
DTSTAMP:20260423T151454
CREATED:20260101T045150Z
LAST-MODIFIED:20260101T045150Z
UID:10001157-1767398400-1767484799@firstlightshelter.org
SUMMARY:Dinner
DESCRIPTION:
URL:https://firstlightshelter.org/get-involved-volunteer-meal-volunteers/dinner-253/
CATEGORIES:Spot Filled
END:VEVENT
BEGIN:VEVENT
DTSTART;VALUE=DATE:20260104
DTEND;VALUE=DATE:20260105
DTSTAMP:20260423T151454
CREATED:20260101T045152Z
LAST-MODIFIED:20260101T045152Z
UID:10001158-1767484800-1767571199@firstlightshelter.org
SUMMARY:Breakfast
DESCRIPTION:
URL:https://firstlightshelter.org/get-involved-volunteer-meal-volunteers/breakfast-268/
CATEGORIES:Spot Filled
END:VEVENT
BEGIN:VEVENT
DTSTART;VALUE=DATE:20260104
DTEND;VALUE=DATE:20260105
DTSTAMP:20260423T151454
CREATED:20260101T045152Z
LAST-MODIFIED:20260101T045152Z
UID:10001159-1767484800-1767571199@firstlightshelter.org
SUMMARY:Lunch
DESCRIPTION:
URL:https://firstlightshelter.org/get-involved-volunteer-meal-volunteers/lunch-288/
CATEGORIES:Spot Filled
END:VEVENT
BEGIN:VEVENT
DTSTART;VALUE=DATE:20260104
DTEND;VALUE=DATE:20260105
DTSTAMP:20260423T151454
CREATED:20260101T045153Z
LAST-MODIFIED:20260101T045153Z
UID:10001160-1767484800-1767571199@firstlightshelter.org
SUMMARY:Dinner
DESCRIPTION:
URL:https://firstlightshelter.org/get-involved-volunteer-meal-volunteers/dinner-254/
CATEGORIES:Spot Filled
END:VEVENT
BEGIN:VEVENT
DTSTART;VALUE=DATE:20260105
DTEND;VALUE=DATE:20260106
DTSTAMP:20260423T151454
CREATED:20260101T045154Z
LAST-MODIFIED:20260101T045154Z
UID:10001161-1767571200-1767657599@firstlightshelter.org
SUMMARY:Dinner
DESCRIPTION:
URL:https://firstlightshelter.org/get-involved-volunteer-meal-volunteers/dinner-255/
CATEGORIES:Spot Filled
END:VEVENT
BEGIN:VEVENT
DTSTART;VALUE=DATE:20260106
DTEND;VALUE=DATE:20260107
DTSTAMP:20260423T151454
CREATED:20260101T045350Z
LAST-MODIFIED:20260101T045350Z
UID:10001162-1767657600-1767743999@firstlightshelter.org
SUMMARY:Dinner
DESCRIPTION:
URL:https://firstlightshelter.org/get-involved-volunteer-meal-volunteers/dinner-256/
CATEGORIES:Spot Filled
END:VEVENT
BEGIN:VEVENT
DTSTART;VALUE=DATE:20260107
DTEND;VALUE=DATE:20260108
DTSTAMP:20260423T151454
CREATED:20260101T045351Z
LAST-MODIFIED:20260101T045351Z
UID:10001163-1767744000-1767830399@firstlightshelter.org
SUMMARY:Dinner
DESCRIPTION:
URL:https://firstlightshelter.org/get-involved-volunteer-meal-volunteers/dinner-257/
CATEGORIES:Spot Filled
END:VEVENT
BEGIN:VEVENT
DTSTART;VALUE=DATE:20260108
DTEND;VALUE=DATE:20260109
DTSTAMP:20260423T151454
CREATED:20260101T045352Z
LAST-MODIFIED:20260101T045352Z
UID:10001164-1767830400-1767916799@firstlightshelter.org
SUMMARY:Dinner
DESCRIPTION:
URL:https://firstlightshelter.org/get-involved-volunteer-meal-volunteers/dinner-258/
CATEGORIES:Spot Filled
END:VEVENT
BEGIN:VEVENT
DTSTART;VALUE=DATE:20260109
DTEND;VALUE=DATE:20260110
DTSTAMP:20260423T151454
CREATED:20260101T045352Z
LAST-MODIFIED:20260101T045352Z
UID:10001165-1767916800-1768003199@firstlightshelter.org
SUMMARY:Dinner
DESCRIPTION:
URL:https://firstlightshelter.org/get-involved-volunteer-meal-volunteers/dinner-259/
CATEGORIES:Spot Filled
END:VEVENT
BEGIN:VEVENT
DTSTART;VALUE=DATE:20260110
DTEND;VALUE=DATE:20260111
DTSTAMP:20260423T151454
CREATED:20260101T045353Z
LAST-MODIFIED:20260101T045353Z
UID:10001166-1768003200-1768089599@firstlightshelter.org
SUMMARY:Breakfast
DESCRIPTION:
URL:https://firstlightshelter.org/get-involved-volunteer-meal-volunteers/breakfast-269/
CATEGORIES:Spot Filled
END:VEVENT
BEGIN:VEVENT
DTSTART;VALUE=DATE:20260110
DTEND;VALUE=DATE:20260111
DTSTAMP:20260423T151454
CREATED:20260101T045550Z
LAST-MODIFIED:20260101T045550Z
UID:10001167-1768003200-1768089599@firstlightshelter.org
SUMMARY:Lunch
DESCRIPTION:
URL:https://firstlightshelter.org/get-involved-volunteer-meal-volunteers/lunch-289/
CATEGORIES:Spot Filled
END:VEVENT
BEGIN:VEVENT
DTSTART;VALUE=DATE:20260110
DTEND;VALUE=DATE:20260111
DTSTAMP:20260423T151454
CREATED:20260101T045551Z
LAST-MODIFIED:20260101T045551Z
UID:10001168-1768003200-1768089599@firstlightshelter.org
SUMMARY:Dinner
DESCRIPTION:
URL:https://firstlightshelter.org/get-involved-volunteer-meal-volunteers/dinner-260/
CATEGORIES:Spot Filled
END:VEVENT
BEGIN:VEVENT
DTSTART;VALUE=DATE:20260111
DTEND;VALUE=DATE:20260112
DTSTAMP:20260423T151454
CREATED:20260101T045552Z
LAST-MODIFIED:20260101T045552Z
UID:10001169-1768089600-1768175999@firstlightshelter.org
SUMMARY:Breakfast
DESCRIPTION:
URL:https://firstlightshelter.org/get-involved-volunteer-meal-volunteers/breakfast-270/
CATEGORIES:Spot Filled
END:VEVENT
BEGIN:VEVENT
DTSTART;VALUE=DATE:20260111
DTEND;VALUE=DATE:20260112
DTSTAMP:20260423T151454
CREATED:20260101T045553Z
LAST-MODIFIED:20260107T223851Z
UID:10001170-1768089600-1768175999@firstlightshelter.org
SUMMARY:Lunch
DESCRIPTION:
URL:https://firstlightshelter.org/get-involved-volunteer-meal-volunteers/lunch-290/
CATEGORIES:Spot Filled
END:VEVENT
BEGIN:VEVENT
DTSTART;VALUE=DATE:20260111
DTEND;VALUE=DATE:20260112
DTSTAMP:20260423T151454
CREATED:20260101T045553Z
LAST-MODIFIED:20260101T045553Z
UID:10001171-1768089600-1768175999@firstlightshelter.org
SUMMARY:Dinner
DESCRIPTION:
URL:https://firstlightshelter.org/get-involved-volunteer-meal-volunteers/dinner-261/
CATEGORIES:Spot Filled
END:VEVENT
BEGIN:VEVENT
DTSTART;VALUE=DATE:20260112
DTEND;VALUE=DATE:20260113
DTSTAMP:20260423T151454
CREATED:20260101T051935Z
LAST-MODIFIED:20260101T051935Z
UID:10001172-1768176000-1768262399@firstlightshelter.org
SUMMARY:Dinner
DESCRIPTION:
URL:https://firstlightshelter.org/get-involved-volunteer-meal-volunteers/dinner-262/
CATEGORIES:Spot Filled
END:VEVENT
BEGIN:VEVENT
DTSTART;VALUE=DATE:20260113
DTEND;VALUE=DATE:20260114
DTSTAMP:20260423T151454
CREATED:20260101T051936Z
LAST-MODIFIED:20260101T051936Z
UID:10001173-1768262400-1768348799@firstlightshelter.org
SUMMARY:Dinner
DESCRIPTION:
URL:https://firstlightshelter.org/get-involved-volunteer-meal-volunteers/dinner-263/
CATEGORIES:Spot Filled
END:VEVENT
BEGIN:VEVENT
DTSTART;VALUE=DATE:20260114
DTEND;VALUE=DATE:20260115
DTSTAMP:20260423T151454
CREATED:20260101T051936Z
LAST-MODIFIED:20260101T051936Z
UID:10001174-1768348800-1768435199@firstlightshelter.org
SUMMARY:Dinner
DESCRIPTION:
URL:https://firstlightshelter.org/get-involved-volunteer-meal-volunteers/dinner-264/
CATEGORIES:Spot Filled
END:VEVENT
BEGIN:VEVENT
DTSTART;VALUE=DATE:20260114
DTEND;VALUE=DATE:20260115
DTSTAMP:20260423T151454
CREATED:20260107T232308Z
LAST-MODIFIED:20260107T232534Z
UID:10001462-1768348800-1768435199@firstlightshelter.org
SUMMARY:Lunch
DESCRIPTION:
URL:https://firstlightshelter.org/get-involved-volunteer-meal-volunteers/lunch-355/
CATEGORIES:Spot Filled
END:VEVENT
BEGIN:VEVENT
DTSTART;VALUE=DATE:20260115
DTEND;VALUE=DATE:20260116
DTSTAMP:20260423T151454
CREATED:20260101T051937Z
LAST-MODIFIED:20260101T051937Z
UID:10001175-1768435200-1768521599@firstlightshelter.org
SUMMARY:Dinner
DESCRIPTION:
URL:https://firstlightshelter.org/get-involved-volunteer-meal-volunteers/dinner-265/
CATEGORIES:Spot Filled
END:VEVENT
BEGIN:VEVENT
DTSTART;VALUE=DATE:20260116
DTEND;VALUE=DATE:20260117
DTSTAMP:20260423T151454
CREATED:20260101T051938Z
LAST-MODIFIED:20260107T234547Z
UID:10001176-1768521600-1768607999@firstlightshelter.org
SUMMARY:Breakfast
DESCRIPTION:
URL:https://firstlightshelter.org/get-involved-volunteer-meal-volunteers/breakfast-271/
CATEGORIES:Spot Filled
END:VEVENT
BEGIN:VEVENT
DTSTART;VALUE=DATE:20260116
DTEND;VALUE=DATE:20260117
DTSTAMP:20260423T151454
CREATED:20260106T194252Z
LAST-MODIFIED:20260106T194252Z
UID:10001177-1768521600-1768607999@firstlightshelter.org
SUMMARY:Dinner
DESCRIPTION:
URL:https://firstlightshelter.org/get-involved-volunteer-meal-volunteers/dinner-266/
CATEGORIES:Spot Filled
END:VEVENT
BEGIN:VEVENT
DTSTART;VALUE=DATE:20260117
DTEND;VALUE=DATE:20260118
DTSTAMP:20260423T151454
CREATED:20260106T194252Z
LAST-MODIFIED:20260106T194252Z
UID:10001178-1768608000-1768694399@firstlightshelter.org
SUMMARY:Breakfast
DESCRIPTION:
URL:https://firstlightshelter.org/get-involved-volunteer-meal-volunteers/breakfast-272/
CATEGORIES:Spot Filled
END:VEVENT
BEGIN:VEVENT
DTSTART;VALUE=DATE:20260117
DTEND;VALUE=DATE:20260118
DTSTAMP:20260423T151454
CREATED:20260106T194253Z
LAST-MODIFIED:20260106T194253Z
UID:10001179-1768608000-1768694399@firstlightshelter.org
SUMMARY:Lunch
DESCRIPTION:
URL:https://firstlightshelter.org/get-involved-volunteer-meal-volunteers/lunch-291/
CATEGORIES:Spot Filled
END:VEVENT
BEGIN:VEVENT
DTSTART;VALUE=DATE:20260117
DTEND;VALUE=DATE:20260118
DTSTAMP:20260423T151454
CREATED:20260106T194254Z
LAST-MODIFIED:20260106T194254Z
UID:10001180-1768608000-1768694399@firstlightshelter.org
SUMMARY:Dinner
DESCRIPTION:
URL:https://firstlightshelter.org/get-involved-volunteer-meal-volunteers/dinner-267/
CATEGORIES:Spot Filled
END:VEVENT
END:VCALENDAR