BEGIN:VCALENDAR
VERSION:2.0
PRODID:-//First Light Shelter - ECPv6.15.11//NONSGML v1.0//EN
CALSCALE:GREGORIAN
METHOD:PUBLISH
X-WR-CALNAME:First Light Shelter
X-ORIGINAL-URL:https://firstlightshelter.org
X-WR-CALDESC:Events for First Light Shelter
REFRESH-INTERVAL;VALUE=DURATION:PT1H
X-Robots-Tag:noindex
X-PUBLISHED-TTL:PT1H
BEGIN:VTIMEZONE
TZID:America/Chicago
BEGIN:DAYLIGHT
TZOFFSETFROM:-0600
TZOFFSETTO:-0500
TZNAME:CDT
DTSTART:20250309T080000
END:DAYLIGHT
BEGIN:STANDARD
TZOFFSETFROM:-0500
TZOFFSETTO:-0600
TZNAME:CST
DTSTART:20251102T070000
END:STANDARD
BEGIN:DAYLIGHT
TZOFFSETFROM:-0600
TZOFFSETTO:-0500
TZNAME:CDT
DTSTART:20260308T080000
END:DAYLIGHT
BEGIN:STANDARD
TZOFFSETFROM:-0500
TZOFFSETTO:-0600
TZNAME:CST
DTSTART:20261101T070000
END:STANDARD
BEGIN:DAYLIGHT
TZOFFSETFROM:-0600
TZOFFSETTO:-0500
TZNAME:CDT
DTSTART:20270314T080000
END:DAYLIGHT
BEGIN:STANDARD
TZOFFSETFROM:-0500
TZOFFSETTO:-0600
TZNAME:CST
DTSTART:20271107T070000
END:STANDARD
END:VTIMEZONE
BEGIN:VEVENT
DTSTART;VALUE=DATE:20260301
DTEND;VALUE=DATE:20260302
DTSTAMP:20260423T030523
CREATED:20260107T173718Z
LAST-MODIFIED:20260107T173718Z
UID:10001252-1772323200-1772409599@firstlightshelter.org
SUMMARY:Breakfast
DESCRIPTION:
URL:https://firstlightshelter.org/get-involved-volunteer-meal-volunteers/breakfast-287/
CATEGORIES:Spot Filled
END:VEVENT
BEGIN:VEVENT
DTSTART;VALUE=DATE:20260301
DTEND;VALUE=DATE:20260302
DTSTAMP:20260423T030523
CREATED:20260107T173718Z
LAST-MODIFIED:20260107T173718Z
UID:10001253-1772323200-1772409599@firstlightshelter.org
SUMMARY:Lunch
DESCRIPTION:
URL:https://firstlightshelter.org/get-involved-volunteer-meal-volunteers/lunch-308/
CATEGORIES:Spot Filled
END:VEVENT
BEGIN:VEVENT
DTSTART;VALUE=DATE:20260301
DTEND;VALUE=DATE:20260302
DTSTAMP:20260423T030523
CREATED:20260107T173720Z
LAST-MODIFIED:20260107T173720Z
UID:10001254-1772323200-1772409599@firstlightshelter.org
SUMMARY:Dinner
DESCRIPTION:
URL:https://firstlightshelter.org/get-involved-volunteer-meal-volunteers/dinner-309/
CATEGORIES:Spot Filled
END:VEVENT
BEGIN:VEVENT
DTSTART;VALUE=DATE:20260302
DTEND;VALUE=DATE:20260303
DTSTAMP:20260423T030523
CREATED:20260107T173722Z
LAST-MODIFIED:20260107T173722Z
UID:10001255-1772409600-1772495999@firstlightshelter.org
SUMMARY:Dinner
DESCRIPTION:
URL:https://firstlightshelter.org/get-involved-volunteer-meal-volunteers/dinner-310/
CATEGORIES:Spot Filled
END:VEVENT
BEGIN:VEVENT
DTSTART;VALUE=DATE:20260303
DTEND;VALUE=DATE:20260304
DTSTAMP:20260423T030523
CREATED:20260107T173724Z
LAST-MODIFIED:20260107T173724Z
UID:10001256-1772496000-1772582399@firstlightshelter.org
SUMMARY:Dinner
DESCRIPTION:
URL:https://firstlightshelter.org/get-involved-volunteer-meal-volunteers/dinner-311/
CATEGORIES:Spot Filled
END:VEVENT
BEGIN:VEVENT
DTSTART;VALUE=DATE:20260304
DTEND;VALUE=DATE:20260305
DTSTAMP:20260423T030523
CREATED:20260107T173727Z
LAST-MODIFIED:20260107T173727Z
UID:10001257-1772582400-1772668799@firstlightshelter.org
SUMMARY:Dinner
DESCRIPTION:
URL:https://firstlightshelter.org/get-involved-volunteer-meal-volunteers/dinner-312/
CATEGORIES:Spot Filled
END:VEVENT
BEGIN:VEVENT
DTSTART;VALUE=DATE:20260305
DTEND;VALUE=DATE:20260306
DTSTAMP:20260423T030523
CREATED:20260107T173728Z
LAST-MODIFIED:20260107T173728Z
UID:10001258-1772668800-1772755199@firstlightshelter.org
SUMMARY:Dinner
DESCRIPTION:
URL:https://firstlightshelter.org/get-involved-volunteer-meal-volunteers/dinner-313/
CATEGORIES:Spot Filled
END:VEVENT
BEGIN:VEVENT
DTSTART;VALUE=DATE:20260306
DTEND;VALUE=DATE:20260307
DTSTAMP:20260423T030523
CREATED:20260107T173729Z
LAST-MODIFIED:20260107T173729Z
UID:10001259-1772755200-1772841599@firstlightshelter.org
SUMMARY:Dinner
DESCRIPTION:
URL:https://firstlightshelter.org/get-involved-volunteer-meal-volunteers/dinner-314/
CATEGORIES:Spot Filled
END:VEVENT
BEGIN:VEVENT
DTSTART;VALUE=DATE:20260307
DTEND;VALUE=DATE:20260308
DTSTAMP:20260423T030523
CREATED:20260107T173730Z
LAST-MODIFIED:20260107T173730Z
UID:10001260-1772841600-1772927999@firstlightshelter.org
SUMMARY:Breakfast
DESCRIPTION:
URL:https://firstlightshelter.org/get-involved-volunteer-meal-volunteers/breakfast-288/
CATEGORIES:Spot Filled
END:VEVENT
BEGIN:VEVENT
DTSTART;VALUE=DATE:20260307
DTEND;VALUE=DATE:20260308
DTSTAMP:20260423T030523
CREATED:20260107T173731Z
LAST-MODIFIED:20260129T210443Z
UID:10001261-1772841600-1772927999@firstlightshelter.org
SUMMARY:Lunch
DESCRIPTION:
URL:https://firstlightshelter.org/get-involved-volunteer-meal-volunteers/lunch-309/
CATEGORIES:Spot Filled
END:VEVENT
BEGIN:VEVENT
DTSTART;VALUE=DATE:20260307
DTEND;VALUE=DATE:20260308
DTSTAMP:20260423T030523
CREATED:20260107T173928Z
LAST-MODIFIED:20260121T174817Z
UID:10001262-1772841600-1772927999@firstlightshelter.org
SUMMARY:Dinner
DESCRIPTION:
URL:https://firstlightshelter.org/get-involved-volunteer-meal-volunteers/dinner-315/
CATEGORIES:Spot Filled
END:VEVENT
BEGIN:VEVENT
DTSTART;VALUE=DATE:20260308
DTEND;VALUE=DATE:20260309
DTSTAMP:20260423T030523
CREATED:20260107T173928Z
LAST-MODIFIED:20260107T173928Z
UID:10001263-1772928000-1773014399@firstlightshelter.org
SUMMARY:Breakfast
DESCRIPTION:
URL:https://firstlightshelter.org/get-involved-volunteer-meal-volunteers/breakfast-289/
CATEGORIES:Spot Filled
END:VEVENT
BEGIN:VEVENT
DTSTART;VALUE=DATE:20260308
DTEND;VALUE=DATE:20260309
DTSTAMP:20260423T030523
CREATED:20260107T173929Z
LAST-MODIFIED:20260127T152817Z
UID:10001264-1772928000-1773014399@firstlightshelter.org
SUMMARY:Lunch
DESCRIPTION:
URL:https://firstlightshelter.org/get-involved-volunteer-meal-volunteers/lunch-310/
CATEGORIES:Spot Filled
END:VEVENT
BEGIN:VEVENT
DTSTART;VALUE=DATE:20260308
DTEND;VALUE=DATE:20260309
DTSTAMP:20260423T030523
CREATED:20260107T173930Z
LAST-MODIFIED:20260107T173930Z
UID:10001265-1772928000-1773014399@firstlightshelter.org
SUMMARY:Dinner
DESCRIPTION:
URL:https://firstlightshelter.org/get-involved-volunteer-meal-volunteers/dinner-316/
CATEGORIES:Spot Filled
END:VEVENT
BEGIN:VEVENT
DTSTART;VALUE=DATE:20260309
DTEND;VALUE=DATE:20260310
DTSTAMP:20260423T030523
CREATED:20260107T174128Z
LAST-MODIFIED:20260107T174128Z
UID:10001267-1773014400-1773100799@firstlightshelter.org
SUMMARY:Dinner
DESCRIPTION:
URL:https://firstlightshelter.org/get-involved-volunteer-meal-volunteers/dinner-317/
CATEGORIES:Spot Filled
END:VEVENT
BEGIN:VEVENT
DTSTART;VALUE=DATE:20260310
DTEND;VALUE=DATE:20260311
DTSTAMP:20260423T030523
CREATED:20260107T174128Z
LAST-MODIFIED:20260107T174128Z
UID:10001268-1773100800-1773187199@firstlightshelter.org
SUMMARY:Dinner
DESCRIPTION:
URL:https://firstlightshelter.org/get-involved-volunteer-meal-volunteers/dinner-318/
CATEGORIES:Spot Filled
END:VEVENT
BEGIN:VEVENT
DTSTART;VALUE=DATE:20260310
DTEND;VALUE=DATE:20260311
DTSTAMP:20260423T030523
CREATED:20260115T230029Z
LAST-MODIFIED:20260115T230040Z
UID:10001463-1773100800-1773187199@firstlightshelter.org
SUMMARY:Lunch
DESCRIPTION:
URL:https://firstlightshelter.org/get-involved-volunteer-meal-volunteers/lunch-356/
CATEGORIES:Spot Filled
END:VEVENT
BEGIN:VEVENT
DTSTART;VALUE=DATE:20260311
DTEND;VALUE=DATE:20260312
DTSTAMP:20260423T030523
CREATED:20260107T174129Z
LAST-MODIFIED:20260112T153558Z
UID:10001269-1773187200-1773273599@firstlightshelter.org
SUMMARY:Dinner
DESCRIPTION:
URL:https://firstlightshelter.org/get-involved-volunteer-meal-volunteers/dinner-319/
CATEGORIES:Spot Filled
END:VEVENT
BEGIN:VEVENT
DTSTART;VALUE=DATE:20260312
DTEND;VALUE=DATE:20260313
DTSTAMP:20260423T030523
CREATED:20260107T174131Z
LAST-MODIFIED:20260107T174131Z
UID:10001270-1773273600-1773359999@firstlightshelter.org
SUMMARY:Dinner
DESCRIPTION:
URL:https://firstlightshelter.org/get-involved-volunteer-meal-volunteers/dinner-320/
CATEGORIES:Spot Filled
END:VEVENT
BEGIN:VEVENT
DTSTART;VALUE=DATE:20260313
DTEND;VALUE=DATE:20260314
DTSTAMP:20260423T030523
CREATED:20260107T174133Z
LAST-MODIFIED:20260115T145415Z
UID:10001271-1773360000-1773446399@firstlightshelter.org
SUMMARY:Dinner
DESCRIPTION:
URL:https://firstlightshelter.org/get-involved-volunteer-meal-volunteers/dinner-321/
CATEGORIES:Spot Filled
END:VEVENT
BEGIN:VEVENT
DTSTART;VALUE=DATE:20260314
DTEND;VALUE=DATE:20260315
DTSTAMP:20260423T030523
CREATED:20260107T174328Z
LAST-MODIFIED:20260107T174328Z
UID:10001272-1773446400-1773532799@firstlightshelter.org
SUMMARY:Breakfast
DESCRIPTION:
URL:https://firstlightshelter.org/get-involved-volunteer-meal-volunteers/breakfast-290/
CATEGORIES:Spot Filled
END:VEVENT
BEGIN:VEVENT
DTSTART;VALUE=DATE:20260314
DTEND;VALUE=DATE:20260315
DTSTAMP:20260423T030523
CREATED:20260107T174329Z
LAST-MODIFIED:20260107T174329Z
UID:10001273-1773446400-1773532799@firstlightshelter.org
SUMMARY:Lunch
DESCRIPTION:
URL:https://firstlightshelter.org/get-involved-volunteer-meal-volunteers/lunch-312/
CATEGORIES:Spot Filled
END:VEVENT
BEGIN:VEVENT
DTSTART;VALUE=DATE:20260314
DTEND;VALUE=DATE:20260315
DTSTAMP:20260423T030523
CREATED:20260107T174329Z
LAST-MODIFIED:20260107T174329Z
UID:10001274-1773446400-1773532799@firstlightshelter.org
SUMMARY:Dinner
DESCRIPTION:
URL:https://firstlightshelter.org/get-involved-volunteer-meal-volunteers/dinner-322/
CATEGORIES:Spot Filled
END:VEVENT
BEGIN:VEVENT
DTSTART;VALUE=DATE:20260315
DTEND;VALUE=DATE:20260316
DTSTAMP:20260423T030523
CREATED:20260107T174330Z
LAST-MODIFIED:20260107T174330Z
UID:10001275-1773532800-1773619199@firstlightshelter.org
SUMMARY:Breakfast
DESCRIPTION:
URL:https://firstlightshelter.org/get-involved-volunteer-meal-volunteers/breakfast-291/
CATEGORIES:Spot Filled
END:VEVENT
BEGIN:VEVENT
DTSTART;VALUE=DATE:20260315
DTEND;VALUE=DATE:20260316
DTSTAMP:20260423T030523
CREATED:20260107T174331Z
LAST-MODIFIED:20260112T193846Z
UID:10001276-1773532800-1773619199@firstlightshelter.org
SUMMARY:Lunch
DESCRIPTION:
URL:https://firstlightshelter.org/get-involved-volunteer-meal-volunteers/lunch-313/
CATEGORIES:Spot Filled
END:VEVENT
BEGIN:VEVENT
DTSTART;VALUE=DATE:20260315
DTEND;VALUE=DATE:20260316
DTSTAMP:20260423T030523
CREATED:20260107T174528Z
LAST-MODIFIED:20260107T174528Z
UID:10001277-1773532800-1773619199@firstlightshelter.org
SUMMARY:Dinner
DESCRIPTION:
URL:https://firstlightshelter.org/get-involved-volunteer-meal-volunteers/dinner-323/
CATEGORIES:Spot Filled
END:VEVENT
BEGIN:VEVENT
DTSTART;VALUE=DATE:20260316
DTEND;VALUE=DATE:20260317
DTSTAMP:20260423T030523
CREATED:20260107T174529Z
LAST-MODIFIED:20260107T174529Z
UID:10001278-1773619200-1773705599@firstlightshelter.org
SUMMARY:Dinner
DESCRIPTION:
URL:https://firstlightshelter.org/get-involved-volunteer-meal-volunteers/dinner-324/
CATEGORIES:Spot Filled
END:VEVENT
BEGIN:VEVENT
DTSTART;VALUE=DATE:20260317
DTEND;VALUE=DATE:20260318
DTSTAMP:20260423T030523
CREATED:20260107T174529Z
LAST-MODIFIED:20260107T174529Z
UID:10001279-1773705600-1773791999@firstlightshelter.org
SUMMARY:Dinner
DESCRIPTION:
URL:https://firstlightshelter.org/get-involved-volunteer-meal-volunteers/dinner-325/
CATEGORIES:Spot Filled
END:VEVENT
BEGIN:VEVENT
DTSTART;VALUE=DATE:20260317
DTEND;VALUE=DATE:20260318
DTSTAMP:20260423T030523
CREATED:20260116T233251Z
LAST-MODIFIED:20260116T233251Z
UID:10001464-1773705600-1773791999@firstlightshelter.org
SUMMARY:Lunch
DESCRIPTION:
URL:https://firstlightshelter.org/get-involved-volunteer-meal-volunteers/lunch-357/
CATEGORIES:Spot Filled
END:VEVENT
BEGIN:VEVENT
DTSTART;VALUE=DATE:20260317
DTEND;VALUE=DATE:20260318
DTSTAMP:20260423T030523
CREATED:20260227T204244Z
LAST-MODIFIED:20260227T204244Z
UID:10001474-1773705600-1773791999@firstlightshelter.org
SUMMARY:Breakfast
DESCRIPTION:
URL:https://firstlightshelter.org/get-involved-volunteer-meal-volunteers/breakfast-329/
CATEGORIES:Spot Filled
END:VEVENT
END:VCALENDAR