BEGIN:VCALENDAR
VERSION:2.0
PRODID:-//First Light Shelter - ECPv6.15.11//NONSGML v1.0//EN
CALSCALE:GREGORIAN
METHOD:PUBLISH
X-ORIGINAL-URL:https://firstlightshelter.org
X-WR-CALDESC:Events for First Light Shelter
REFRESH-INTERVAL;VALUE=DURATION:PT1H
X-Robots-Tag:noindex
X-PUBLISHED-TTL:PT1H
BEGIN:VTIMEZONE
TZID:America/Chicago
BEGIN:DAYLIGHT
TZOFFSETFROM:-0600
TZOFFSETTO:-0500
TZNAME:CDT
DTSTART:20250309T080000
END:DAYLIGHT
BEGIN:STANDARD
TZOFFSETFROM:-0500
TZOFFSETTO:-0600
TZNAME:CST
DTSTART:20251102T070000
END:STANDARD
BEGIN:DAYLIGHT
TZOFFSETFROM:-0600
TZOFFSETTO:-0500
TZNAME:CDT
DTSTART:20260308T080000
END:DAYLIGHT
BEGIN:STANDARD
TZOFFSETFROM:-0500
TZOFFSETTO:-0600
TZNAME:CST
DTSTART:20261101T070000
END:STANDARD
BEGIN:DAYLIGHT
TZOFFSETFROM:-0600
TZOFFSETTO:-0500
TZNAME:CDT
DTSTART:20270314T080000
END:DAYLIGHT
BEGIN:STANDARD
TZOFFSETFROM:-0500
TZOFFSETTO:-0600
TZNAME:CST
DTSTART:20271107T070000
END:STANDARD
END:VTIMEZONE
BEGIN:VEVENT
DTSTART;VALUE=DATE:20260501
DTEND;VALUE=DATE:20260502
DTSTAMP:20260423T040346
CREATED:20260107T184454Z
LAST-MODIFIED:20260107T184454Z
UID:10001355-1777593600-1777679999@firstlightshelter.org
SUMMARY:Dinner
DESCRIPTION:
URL:https://firstlightshelter.org/get-involved-volunteer-meal-volunteers/dinner-370/
CATEGORIES:Spot Filled
END:VEVENT
BEGIN:VEVENT
DTSTART;VALUE=DATE:20260502
DTEND;VALUE=DATE:20260503
DTSTAMP:20260423T040346
CREATED:20260107T184456Z
LAST-MODIFIED:20260107T184456Z
UID:10001356-1777680000-1777766399@firstlightshelter.org
SUMMARY:Breakfast
DESCRIPTION:
URL:https://firstlightshelter.org/get-involved-volunteer-meal-volunteers/breakfast-306/
CATEGORIES:Spot Filled
END:VEVENT
BEGIN:VEVENT
DTSTART;VALUE=DATE:20260502
DTEND;VALUE=DATE:20260503
DTSTAMP:20260423T040346
CREATED:20260107T184456Z
LAST-MODIFIED:20260225T180000Z
UID:10001357-1777680000-1777766399@firstlightshelter.org
SUMMARY:Lunch
DESCRIPTION:
URL:https://firstlightshelter.org/get-involved-volunteer-meal-volunteers/lunch-331/
CATEGORIES:Spot Filled
END:VEVENT
BEGIN:VEVENT
DTSTART;VALUE=DATE:20260502
DTEND;VALUE=DATE:20260503
DTSTAMP:20260423T040346
CREATED:20260107T184457Z
LAST-MODIFIED:20260107T184457Z
UID:10001358-1777680000-1777766399@firstlightshelter.org
SUMMARY:Dinner
DESCRIPTION:
URL:https://firstlightshelter.org/get-involved-volunteer-meal-volunteers/dinner-371/
CATEGORIES:Spot Filled
END:VEVENT
BEGIN:VEVENT
DTSTART;VALUE=DATE:20260503
DTEND;VALUE=DATE:20260504
DTSTAMP:20260423T040346
CREATED:20260107T184457Z
LAST-MODIFIED:20260107T184457Z
UID:10001359-1777766400-1777852799@firstlightshelter.org
SUMMARY:Breakfast
DESCRIPTION:
URL:https://firstlightshelter.org/get-involved-volunteer-meal-volunteers/breakfast-307/
CATEGORIES:Spot Filled
END:VEVENT
BEGIN:VEVENT
DTSTART;VALUE=DATE:20260503
DTEND;VALUE=DATE:20260504
DTSTAMP:20260423T040346
CREATED:20260107T184501Z
LAST-MODIFIED:20260107T184501Z
UID:10001360-1777766400-1777852799@firstlightshelter.org
SUMMARY:Lunch
DESCRIPTION:
URL:https://firstlightshelter.org/get-involved-volunteer-meal-volunteers/lunch-332/
CATEGORIES:Spot Filled
END:VEVENT
BEGIN:VEVENT
DTSTART;VALUE=DATE:20260503
DTEND;VALUE=DATE:20260504
DTSTAMP:20260423T040346
CREATED:20260107T184502Z
LAST-MODIFIED:20260107T184502Z
UID:10001361-1777766400-1777852799@firstlightshelter.org
SUMMARY:Dinner
DESCRIPTION:
URL:https://firstlightshelter.org/get-involved-volunteer-meal-volunteers/dinner-372/
CATEGORIES:Spot Filled
END:VEVENT
BEGIN:VEVENT
DTSTART;VALUE=DATE:20260504
DTEND;VALUE=DATE:20260505
DTSTAMP:20260423T040346
CREATED:20260107T184503Z
LAST-MODIFIED:20260107T184503Z
UID:10001362-1777852800-1777939199@firstlightshelter.org
SUMMARY:Dinner
DESCRIPTION:
URL:https://firstlightshelter.org/get-involved-volunteer-meal-volunteers/dinner-373/
CATEGORIES:Spot Filled
END:VEVENT
BEGIN:VEVENT
DTSTART;VALUE=DATE:20260505
DTEND;VALUE=DATE:20260506
DTSTAMP:20260423T040346
CREATED:20260107T184505Z
LAST-MODIFIED:20260107T184505Z
UID:10001363-1777939200-1778025599@firstlightshelter.org
SUMMARY:Dinner
DESCRIPTION:
URL:https://firstlightshelter.org/get-involved-volunteer-meal-volunteers/dinner-374/
CATEGORIES:Spot Filled
END:VEVENT
BEGIN:VEVENT
DTSTART;VALUE=DATE:20260506
DTEND;VALUE=DATE:20260507
DTSTAMP:20260423T040346
CREATED:20260107T184506Z
LAST-MODIFIED:20260107T184506Z
UID:10001364-1778025600-1778111999@firstlightshelter.org
SUMMARY:Dinner
DESCRIPTION:
URL:https://firstlightshelter.org/get-involved-volunteer-meal-volunteers/dinner-375/
CATEGORIES:Spot Filled
END:VEVENT
BEGIN:VEVENT
DTSTART;VALUE=DATE:20260507
DTEND;VALUE=DATE:20260508
DTSTAMP:20260423T040346
CREATED:20260107T184701Z
LAST-MODIFIED:20260107T184701Z
UID:10001365-1778112000-1778198399@firstlightshelter.org
SUMMARY:Dinner
DESCRIPTION:
URL:https://firstlightshelter.org/get-involved-volunteer-meal-volunteers/dinner-376/
CATEGORIES:Spot Filled
END:VEVENT
BEGIN:VEVENT
DTSTART;VALUE=DATE:20260508
DTEND;VALUE=DATE:20260509
DTSTAMP:20260423T040346
CREATED:20260107T184701Z
LAST-MODIFIED:20260107T184701Z
UID:10001366-1778198400-1778284799@firstlightshelter.org
SUMMARY:Dinner
DESCRIPTION:
URL:https://firstlightshelter.org/get-involved-volunteer-meal-volunteers/dinner-377/
CATEGORIES:Spot Filled
END:VEVENT
BEGIN:VEVENT
DTSTART;VALUE=DATE:20260509
DTEND;VALUE=DATE:20260510
DTSTAMP:20260423T040346
CREATED:20260107T184703Z
LAST-MODIFIED:20260107T184703Z
UID:10001367-1778284800-1778371199@firstlightshelter.org
SUMMARY:Breakfast
DESCRIPTION:
URL:https://firstlightshelter.org/get-involved-volunteer-meal-volunteers/breakfast-308/
CATEGORIES:Spot Filled
END:VEVENT
BEGIN:VEVENT
DTSTART;VALUE=DATE:20260509
DTEND;VALUE=DATE:20260510
DTSTAMP:20260423T040346
CREATED:20260107T184703Z
LAST-MODIFIED:20260107T184703Z
UID:10001368-1778284800-1778371199@firstlightshelter.org
SUMMARY:Lunch
DESCRIPTION:
URL:https://firstlightshelter.org/get-involved-volunteer-meal-volunteers/lunch-333/
CATEGORIES:Spot Filled
END:VEVENT
BEGIN:VEVENT
DTSTART;VALUE=DATE:20260509
DTEND;VALUE=DATE:20260510
DTSTAMP:20260423T040346
CREATED:20260107T184704Z
LAST-MODIFIED:20260107T184704Z
UID:10001369-1778284800-1778371199@firstlightshelter.org
SUMMARY:Dinner
DESCRIPTION:
URL:https://firstlightshelter.org/get-involved-volunteer-meal-volunteers/dinner-378/
CATEGORIES:Spot Filled
END:VEVENT
BEGIN:VEVENT
DTSTART;VALUE=DATE:20260510
DTEND;VALUE=DATE:20260511
DTSTAMP:20260423T040346
CREATED:20260107T184901Z
LAST-MODIFIED:20260107T184901Z
UID:10001370-1778371200-1778457599@firstlightshelter.org
SUMMARY:Breakfast
DESCRIPTION:
URL:https://firstlightshelter.org/get-involved-volunteer-meal-volunteers/breakfast-309/
CATEGORIES:Spot Filled
END:VEVENT
BEGIN:VEVENT
DTSTART;VALUE=DATE:20260510
DTEND;VALUE=DATE:20260511
DTSTAMP:20260423T040346
CREATED:20260107T184902Z
LAST-MODIFIED:20260417T193952Z
UID:10001371-1778371200-1778457599@firstlightshelter.org
SUMMARY:Lunch
DESCRIPTION:
URL:https://firstlightshelter.org/get-involved-volunteer-meal-volunteers/lunch-334/
CATEGORIES:Spot Filled
END:VEVENT
BEGIN:VEVENT
DTSTART;VALUE=DATE:20260510
DTEND;VALUE=DATE:20260511
DTSTAMP:20260423T040346
CREATED:20260107T184902Z
LAST-MODIFIED:20260107T184902Z
UID:10001372-1778371200-1778457599@firstlightshelter.org
SUMMARY:Dinner
DESCRIPTION:
URL:https://firstlightshelter.org/get-involved-volunteer-meal-volunteers/dinner-379/
CATEGORIES:Spot Filled
END:VEVENT
BEGIN:VEVENT
DTSTART;VALUE=DATE:20260511
DTEND;VALUE=DATE:20260512
DTSTAMP:20260423T040346
CREATED:20260107T184904Z
LAST-MODIFIED:20260107T184904Z
UID:10001374-1778457600-1778543999@firstlightshelter.org
SUMMARY:Dinner
DESCRIPTION:
URL:https://firstlightshelter.org/get-involved-volunteer-meal-volunteers/dinner-380/
CATEGORIES:Spot Filled
END:VEVENT
BEGIN:VEVENT
DTSTART;VALUE=DATE:20260512
DTEND;VALUE=DATE:20260513
DTSTAMP:20260423T040346
CREATED:20260107T185101Z
LAST-MODIFIED:20260107T185101Z
UID:10001375-1778544000-1778630399@firstlightshelter.org
SUMMARY:Dinner
DESCRIPTION:
URL:https://firstlightshelter.org/get-involved-volunteer-meal-volunteers/dinner-381/
CATEGORIES:Spot Filled
END:VEVENT
BEGIN:VEVENT
DTSTART;VALUE=DATE:20260513
DTEND;VALUE=DATE:20260514
DTSTAMP:20260423T040346
CREATED:20260107T185102Z
LAST-MODIFIED:20260107T185102Z
UID:10001376-1778630400-1778716799@firstlightshelter.org
SUMMARY:Dinner
DESCRIPTION:
URL:https://firstlightshelter.org/get-involved-volunteer-meal-volunteers/dinner-382/
CATEGORIES:Spot Filled
END:VEVENT
BEGIN:VEVENT
DTSTART;VALUE=DATE:20260514
DTEND;VALUE=DATE:20260515
DTSTAMP:20260423T040346
CREATED:20260107T185103Z
LAST-MODIFIED:20260107T185103Z
UID:10001377-1778716800-1778803199@firstlightshelter.org
SUMMARY:Dinner
DESCRIPTION:
URL:https://firstlightshelter.org/get-involved-volunteer-meal-volunteers/dinner-383/
CATEGORIES:Spot Filled
END:VEVENT
BEGIN:VEVENT
DTSTART;VALUE=DATE:20260515
DTEND;VALUE=DATE:20260516
DTSTAMP:20260423T040346
CREATED:20260107T185104Z
LAST-MODIFIED:20260327T142403Z
UID:10001378-1778803200-1778889599@firstlightshelter.org
SUMMARY:Dinner
DESCRIPTION:
URL:https://firstlightshelter.org/get-involved-volunteer-meal-volunteers/dinner-384/
CATEGORIES:Spot Filled
END:VEVENT
BEGIN:VEVENT
DTSTART;VALUE=DATE:20260516
DTEND;VALUE=DATE:20260517
DTSTAMP:20260423T040346
CREATED:20260107T185105Z
LAST-MODIFIED:20260107T185105Z
UID:10001379-1778889600-1778975999@firstlightshelter.org
SUMMARY:Breakfast
DESCRIPTION:
URL:https://firstlightshelter.org/get-involved-volunteer-meal-volunteers/breakfast-310/
CATEGORIES:Spot Filled
END:VEVENT
BEGIN:VEVENT
DTSTART;VALUE=DATE:20260516
DTEND;VALUE=DATE:20260517
DTSTAMP:20260423T040346
CREATED:20260107T185301Z
LAST-MODIFIED:20260220T185715Z
UID:10001380-1778889600-1778975999@firstlightshelter.org
SUMMARY:Lunch
DESCRIPTION:
URL:https://firstlightshelter.org/get-involved-volunteer-meal-volunteers/lunch-336/
CATEGORIES:Spot Filled
END:VEVENT
BEGIN:VEVENT
DTSTART;VALUE=DATE:20260516
DTEND;VALUE=DATE:20260517
DTSTAMP:20260423T040346
CREATED:20260107T185302Z
LAST-MODIFIED:20260107T185302Z
UID:10001381-1778889600-1778975999@firstlightshelter.org
SUMMARY:Dinner
DESCRIPTION:
URL:https://firstlightshelter.org/get-involved-volunteer-meal-volunteers/dinner-385/
CATEGORIES:Spot Filled
END:VEVENT
BEGIN:VEVENT
DTSTART;VALUE=DATE:20260517
DTEND;VALUE=DATE:20260518
DTSTAMP:20260423T040346
CREATED:20260107T185302Z
LAST-MODIFIED:20260107T185302Z
UID:10001382-1778976000-1779062399@firstlightshelter.org
SUMMARY:Breakfast
DESCRIPTION:
URL:https://firstlightshelter.org/get-involved-volunteer-meal-volunteers/breakfast-311/
CATEGORIES:Spot Filled
END:VEVENT
BEGIN:VEVENT
DTSTART;VALUE=DATE:20260517
DTEND;VALUE=DATE:20260518
DTSTAMP:20260423T040346
CREATED:20260107T185303Z
LAST-MODIFIED:20260408T144606Z
UID:10001383-1778976000-1779062399@firstlightshelter.org
SUMMARY:Lunch
DESCRIPTION:
URL:https://firstlightshelter.org/get-involved-volunteer-meal-volunteers/lunch-337/
CATEGORIES:Volunteers Needed
END:VEVENT
BEGIN:VEVENT
DTSTART;VALUE=DATE:20260517
DTEND;VALUE=DATE:20260518
DTSTAMP:20260423T040346
CREATED:20260107T185304Z
LAST-MODIFIED:20260107T185304Z
UID:10001384-1778976000-1779062399@firstlightshelter.org
SUMMARY:Dinner
DESCRIPTION:
URL:https://firstlightshelter.org/get-involved-volunteer-meal-volunteers/dinner-386/
CATEGORIES:Spot Filled
END:VEVENT
BEGIN:VEVENT
DTSTART;VALUE=DATE:20260518
DTEND;VALUE=DATE:20260519
DTSTAMP:20260423T040346
CREATED:20260107T185501Z
LAST-MODIFIED:20260107T185501Z
UID:10001385-1779062400-1779148799@firstlightshelter.org
SUMMARY:Dinner
DESCRIPTION:
URL:https://firstlightshelter.org/get-involved-volunteer-meal-volunteers/dinner-387/
CATEGORIES:Spot Filled
END:VEVENT
END:VCALENDAR