BEGIN:VCALENDAR
VERSION:2.0
PRODID:-//First Light Shelter - ECPv6.15.11//NONSGML v1.0//EN
CALSCALE:GREGORIAN
METHOD:PUBLISH
X-WR-CALNAME:First Light Shelter
X-ORIGINAL-URL:https://firstlightshelter.org
X-WR-CALDESC:Events for First Light Shelter
REFRESH-INTERVAL;VALUE=DURATION:PT1H
X-Robots-Tag:noindex
X-PUBLISHED-TTL:PT1H
BEGIN:VTIMEZONE
TZID:Africa/Abidjan
BEGIN:STANDARD
TZOFFSETFROM:+0000
TZOFFSETTO:+0000
TZNAME:GMT
DTSTART:20240101T000000
END:STANDARD
END:VTIMEZONE
BEGIN:VEVENT
DTSTART;VALUE=DATE:20251231
DTEND;VALUE=DATE:20260101
DTSTAMP:20260423T233414
CREATED:20250507T014014Z
LAST-MODIFIED:20251110T152338Z
UID:10000524-1767139200-1767225599@firstlightshelter.org
SUMMARY:Dinner
DESCRIPTION:To book\, click here mailto:camilla@demo.firstlightshelter.org
URL:https://firstlightshelter.org/get-involved-volunteer-meal-volunteers/dinner-244/
CATEGORIES:Spot Filled
END:VEVENT
END:VCALENDAR