BEGIN:VCALENDAR
VERSION:2.0
PRODID:-//First Light Shelter - ECPv6.15.11//NONSGML v1.0//EN
CALSCALE:GREGORIAN
METHOD:PUBLISH
X-ORIGINAL-URL:https://firstlightshelter.org
X-WR-CALDESC:Events for First Light Shelter
REFRESH-INTERVAL;VALUE=DURATION:PT1H
X-Robots-Tag:noindex
X-PUBLISHED-TTL:PT1H
BEGIN:VTIMEZONE
TZID:America/Chicago
BEGIN:DAYLIGHT
TZOFFSETFROM:-0600
TZOFFSETTO:-0500
TZNAME:CDT
DTSTART:20250309T080000
END:DAYLIGHT
BEGIN:STANDARD
TZOFFSETFROM:-0500
TZOFFSETTO:-0600
TZNAME:CST
DTSTART:20251102T070000
END:STANDARD
BEGIN:DAYLIGHT
TZOFFSETFROM:-0600
TZOFFSETTO:-0500
TZNAME:CDT
DTSTART:20260308T080000
END:DAYLIGHT
BEGIN:STANDARD
TZOFFSETFROM:-0500
TZOFFSETTO:-0600
TZNAME:CST
DTSTART:20261101T070000
END:STANDARD
BEGIN:DAYLIGHT
TZOFFSETFROM:-0600
TZOFFSETTO:-0500
TZNAME:CDT
DTSTART:20270314T080000
END:DAYLIGHT
BEGIN:STANDARD
TZOFFSETFROM:-0500
TZOFFSETTO:-0600
TZNAME:CST
DTSTART:20271107T070000
END:STANDARD
END:VTIMEZONE
BEGIN:VEVENT
DTSTART;VALUE=DATE:20260418
DTEND;VALUE=DATE:20260419
DTSTAMP:20260423T125621
CREATED:20260107T183055Z
LAST-MODIFIED:20260107T183055Z
UID:10001334-1776470400-1776556799@firstlightshelter.org
SUMMARY:Dinner
DESCRIPTION:
URL:https://firstlightshelter.org/get-involved-volunteer-meal-volunteers/dinner-357/
CATEGORIES:Spot Filled
END:VEVENT
BEGIN:VEVENT
DTSTART;VALUE=DATE:20260417
DTEND;VALUE=DATE:20260418
DTSTAMP:20260423T125621
CREATED:20260107T183053Z
LAST-MODIFIED:20260107T183053Z
UID:10001331-1776384000-1776470399@firstlightshelter.org
SUMMARY:Dinner
DESCRIPTION:
URL:https://firstlightshelter.org/get-involved-volunteer-meal-volunteers/dinner-356/
CATEGORIES:Spot Filled
END:VEVENT
BEGIN:VEVENT
DTSTART;VALUE=DATE:20260416
DTEND;VALUE=DATE:20260417
DTSTAMP:20260423T125621
CREATED:20260107T183052Z
LAST-MODIFIED:20260107T183052Z
UID:10001330-1776297600-1776383999@firstlightshelter.org
SUMMARY:Dinner
DESCRIPTION:
URL:https://firstlightshelter.org/get-involved-volunteer-meal-volunteers/dinner-355/
CATEGORIES:Spot Filled
END:VEVENT
BEGIN:VEVENT
DTSTART;VALUE=DATE:20260415
DTEND;VALUE=DATE:20260416
DTSTAMP:20260423T125621
CREATED:20260107T182855Z
LAST-MODIFIED:20260107T182855Z
UID:10001329-1776211200-1776297599@firstlightshelter.org
SUMMARY:Dinner
DESCRIPTION:
URL:https://firstlightshelter.org/get-involved-volunteer-meal-volunteers/dinner-354/
CATEGORIES:Spot Filled
END:VEVENT
BEGIN:VEVENT
DTSTART;VALUE=DATE:20260414
DTEND;VALUE=DATE:20260415
DTSTAMP:20260423T125621
CREATED:20260107T182854Z
LAST-MODIFIED:20260107T182854Z
UID:10001327-1776124800-1776211199@firstlightshelter.org
SUMMARY:Dinner
DESCRIPTION:
URL:https://firstlightshelter.org/get-involved-volunteer-meal-volunteers/dinner-353/
CATEGORIES:Spot Filled
END:VEVENT
BEGIN:VEVENT
DTSTART;VALUE=DATE:20260413
DTEND;VALUE=DATE:20260414
DTSTAMP:20260423T125621
CREATED:20260107T182853Z
LAST-MODIFIED:20260107T182853Z
UID:10001326-1776038400-1776124799@firstlightshelter.org
SUMMARY:Dinner
DESCRIPTION:
URL:https://firstlightshelter.org/get-involved-volunteer-meal-volunteers/dinner-352/
CATEGORIES:Spot Filled
END:VEVENT
BEGIN:VEVENT
DTSTART;VALUE=DATE:20260412
DTEND;VALUE=DATE:20260413
DTSTAMP:20260423T125621
CREATED:20260107T182655Z
LAST-MODIFIED:20260107T182655Z
UID:10001324-1775952000-1776038399@firstlightshelter.org
SUMMARY:Dinner
DESCRIPTION:
URL:https://firstlightshelter.org/get-involved-volunteer-meal-volunteers/dinner-351/
CATEGORIES:Spot Filled
END:VEVENT
BEGIN:VEVENT
DTSTART;VALUE=DATE:20260214
DTEND;VALUE=DATE:20260215
DTSTAMP:20260423T125621
CREATED:20260122T202209Z
LAST-MODIFIED:20260122T202209Z
UID:10001469-1771027200-1771113599@firstlightshelter.org
SUMMARY:Dinner
DESCRIPTION:
URL:https://firstlightshelter.org/get-involved-volunteer-meal-volunteers/dinner-431/
CATEGORIES:Spot Filled
END:VEVENT
BEGIN:VEVENT
DTSTART;VALUE=DATE:20260213
DTEND;VALUE=DATE:20260214
DTSTAMP:20260423T125621
CREATED:20260106T195519Z
LAST-MODIFIED:20260106T195519Z
UID:10001224-1770940800-1771027199@firstlightshelter.org
SUMMARY:Dinner
DESCRIPTION:
URL:https://firstlightshelter.org/get-involved-volunteer-meal-volunteers/dinner-294/
CATEGORIES:Spot Filled
END:VEVENT
BEGIN:VEVENT
DTSTART;VALUE=DATE:20260212
DTEND;VALUE=DATE:20260213
DTSTAMP:20260423T125621
CREATED:20260106T195519Z
LAST-MODIFIED:20260106T195519Z
UID:10001223-1770854400-1770940799@firstlightshelter.org
SUMMARY:Dinner
DESCRIPTION:
URL:https://firstlightshelter.org/get-involved-volunteer-meal-volunteers/dinner-293/
CATEGORIES:Spot Filled
END:VEVENT
BEGIN:VEVENT
DTSTART;VALUE=DATE:20260211
DTEND;VALUE=DATE:20260212
DTSTAMP:20260423T125621
CREATED:20260106T195518Z
LAST-MODIFIED:20260106T195518Z
UID:10001222-1770768000-1770854399@firstlightshelter.org
SUMMARY:Dinner
DESCRIPTION:
URL:https://firstlightshelter.org/get-involved-volunteer-meal-volunteers/dinner-292/
CATEGORIES:Spot Filled
END:VEVENT
BEGIN:VEVENT
DTSTART;VALUE=DATE:20260210
DTEND;VALUE=DATE:20260211
DTSTAMP:20260423T125621
CREATED:20260106T195319Z
LAST-MODIFIED:20260106T195319Z
UID:10001221-1770681600-1770767999@firstlightshelter.org
SUMMARY:Dinner
DESCRIPTION:
URL:https://firstlightshelter.org/get-involved-volunteer-meal-volunteers/dinner-291/
CATEGORIES:Spot Filled
END:VEVENT
BEGIN:VEVENT
DTSTART;VALUE=DATE:20260209
DTEND;VALUE=DATE:20260210
DTSTAMP:20260423T125621
CREATED:20260106T195319Z
LAST-MODIFIED:20260106T195319Z
UID:10001220-1770595200-1770681599@firstlightshelter.org
SUMMARY:Dinner
DESCRIPTION:
URL:https://firstlightshelter.org/get-involved-volunteer-meal-volunteers/dinner-290/
CATEGORIES:Spot Filled
END:VEVENT
BEGIN:VEVENT
DTSTART;VALUE=DATE:20260208
DTEND;VALUE=DATE:20260209
DTSTAMP:20260423T125621
CREATED:20260106T195317Z
LAST-MODIFIED:20260106T195317Z
UID:10001218-1770508800-1770595199@firstlightshelter.org
SUMMARY:Dinner
DESCRIPTION:
URL:https://firstlightshelter.org/get-involved-volunteer-meal-volunteers/dinner-289/
CATEGORIES:Spot Filled
END:VEVENT
END:VCALENDAR