BEGIN:VCALENDAR
VERSION:2.0
PRODID:-//First Light Shelter - ECPv6.15.11//NONSGML v1.0//EN
CALSCALE:GREGORIAN
METHOD:PUBLISH
X-ORIGINAL-URL:https://firstlightshelter.org
X-WR-CALDESC:Events for First Light Shelter
REFRESH-INTERVAL;VALUE=DURATION:PT1H
X-Robots-Tag:noindex
X-PUBLISHED-TTL:PT1H
BEGIN:VTIMEZONE
TZID:America/Chicago
BEGIN:DAYLIGHT
TZOFFSETFROM:-0600
TZOFFSETTO:-0500
TZNAME:CDT
DTSTART:20250309T080000
END:DAYLIGHT
BEGIN:STANDARD
TZOFFSETFROM:-0500
TZOFFSETTO:-0600
TZNAME:CST
DTSTART:20251102T070000
END:STANDARD
BEGIN:DAYLIGHT
TZOFFSETFROM:-0600
TZOFFSETTO:-0500
TZNAME:CDT
DTSTART:20260308T080000
END:DAYLIGHT
BEGIN:STANDARD
TZOFFSETFROM:-0500
TZOFFSETTO:-0600
TZNAME:CST
DTSTART:20261101T070000
END:STANDARD
BEGIN:DAYLIGHT
TZOFFSETFROM:-0600
TZOFFSETTO:-0500
TZNAME:CDT
DTSTART:20270314T080000
END:DAYLIGHT
BEGIN:STANDARD
TZOFFSETFROM:-0500
TZOFFSETTO:-0600
TZNAME:CST
DTSTART:20271107T070000
END:STANDARD
END:VTIMEZONE
BEGIN:VTIMEZONE
TZID:Africa/Abidjan
BEGIN:STANDARD
TZOFFSETFROM:+0000
TZOFFSETTO:+0000
TZNAME:GMT
DTSTART:20240101T000000
END:STANDARD
END:VTIMEZONE
BEGIN:VEVENT
DTSTART;VALUE=DATE:20260405
DTEND;VALUE=DATE:20260406
DTSTAMP:20260423T140546
CREATED:20260107T182053Z
LAST-MODIFIED:20260115T210346Z
UID:10001312-1775347200-1775433599@firstlightshelter.org
SUMMARY:Lunch
DESCRIPTION:
URL:https://firstlightshelter.org/get-involved-volunteer-meal-volunteers/lunch-321/
CATEGORIES:Spot Filled
END:VEVENT
BEGIN:VEVENT
DTSTART;VALUE=DATE:20251225
DTEND;VALUE=DATE:20251226
DTSTAMP:20260423T140546
CREATED:20250507T023703Z
LAST-MODIFIED:20251002T135607Z
UID:10001039-1766620800-1766707199@firstlightshelter.org
SUMMARY:Lunch
DESCRIPTION:
URL:https://firstlightshelter.org/get-involved-volunteer-meal-volunteers/lunch-239/
CATEGORIES:Spot Filled
END:VEVENT
BEGIN:VEVENT
DTSTART;VALUE=DATE:20251225
DTEND;VALUE=DATE:20251226
DTSTAMP:20260423T140546
CREATED:20250507T013813Z
LAST-MODIFIED:20251002T135855Z
UID:10000518-1766620800-1766707199@firstlightshelter.org
SUMMARY:Dinner
DESCRIPTION:
URL:https://firstlightshelter.org/get-involved-volunteer-meal-volunteers/dinner-238/
CATEGORIES:Spot Filled
END:VEVENT
END:VCALENDAR